BEGIN:VCALENDAR
VERSION:2.0
PRODID:-//Fondapro - ECPv5.12.4//NONSGML v1.0//EN
CALSCALE:GREGORIAN
METHOD:PUBLISH
X-WR-CALNAME:Fondapro
X-ORIGINAL-URL:https://fondation-fondapro.org
X-WR-CALDESC:évènements pour Fondapro
REFRESH-INTERVAL;VALUE=DURATION:PT1H
X-Robots-Tag:noindex
X-PUBLISHED-TTL:PT1H
BEGIN:VTIMEZONE
TZID:Europe/Paris
BEGIN:DAYLIGHT
TZOFFSETFROM:+0100
TZOFFSETTO:+0200
TZNAME:CEST
DTSTART:20210328T010000
END:DAYLIGHT
BEGIN:STANDARD
TZOFFSETFROM:+0200
TZOFFSETTO:+0100
TZNAME:CET
DTSTART:20211031T010000
END:STANDARD
END:VTIMEZONE
BEGIN:VEVENT
DTSTART;VALUE=DATE:20210615
DTEND;VALUE=DATE:20210617
DTSTAMP:20260424T200020
CREATED:20210601T092107Z
LAST-MODIFIED:20210601T094245Z
UID:987-1623715200-1623887999@fondation-fondapro.org
SUMMARY:LE BUS FONDAPRO À ROUSSILLON
DESCRIPTION:Deux jours pour écouter et respirer\nLa Fondation Fondapro soutenue par Branchet\, souhaite se mettre à l’écoute des besoins actuels des établissements et du personnel médical pour leur apporter un soutien après une année éprouvante avec les patients\, au sein de leur équipe\, pour les pathologies mal connues. Une initiative du Président de la Fondation\, le Dr Antoine Watrelot. \n  \nRetour d’expérience sur la gestion de la crise sanitaire\nFondapro propose d’ouvrir la discussion pour une meilleure compréhension des enjeux d’équipe entre les différents acteurs de santé lors de la crise sanitaire. \nCes discussions permettront d’établir une relation d’écoute au sein des établissements de santé\, des équipes\, voire entre les équipes des différents établissements. Fondapro propose d’organiser ce dialogue sous forme d’entretiens individuels et de tables rondes. \nCes discussions seront restituées sous la forme d’un livre blanc écrit avec les acteurs de la crise sanitaire. Il sera rédigé en partenariat avec Avenir Spé et Le Bloc afin de proposer des solutions pragmatiques pour une gouvernance médicale et régionale en cas de crise sanitaire. \n  \nCroquez-moi\nEt puisque l’humour reste souvent le meilleur moyen de respirer après cette crise\, et pour laisser une trace sympathique de notre passage nous avons demandé à une caricaturiste de venir croquer tous ceux qui le voudront. Ils pourront repartir avec leur portrait. Petit cadeau après une année difficile. \nCes caricatures pourront être rassemblées dans un recueil de la tournée du bus\, si les participants et les établissements sont d’accord et seront remises gracieusement aux établissements nous ayant accueillis.
URL:https://fondation-fondapro.org/event/le-bus-fondapro-a-roussillon/
LOCATION:Parking de la Clinique des Côtes du Rhône\, 12 Rue Fernand Léger\, Roussillon\, 38150\, France
CATEGORIES:Fondapro on the Road
ATTACH;FMTTYPE=image/jpeg:https://fondation-fondapro.org/wp-content/uploads/2021/06/Auzimour-Bus-Operation-Covid-1000x350-1.jpg
END:VEVENT
END:VCALENDAR